{
 "currentVersion": 10.61,
 "serviceDescription": "published by Johan @ 2021/11/29",
 "mapName": "Layers",
 "description": "",
 "copyrightText": "",
 "supportsDynamicLayers": true,
 "layers": [
  {
   "id": 0,
   "name": "MapLayer",
   "parentLayerId": -1,
   "defaultVisibility": true,
   "subLayerIds": [
    1,
    3
   ],
   "minScale": 0,
   "maxScale": 0
  },
  {
   "id": 1,
   "name": "建物門牌",
   "parentLayerId": 0,
   "defaultVisibility": true,
   "subLayerIds": [
    2
   ],
   "minScale": 0,
   "maxScale": 0
  },
  {
   "id": 2,
   "name": "building_WGS84",
   "parentLayerId": 1,
   "defaultVisibility": true,
   "subLayerIds": null,
   "minScale": 0,
   "maxScale": 0
  },
  {
   "id": 3,
   "name": "道路網",
   "parentLayerId": 0,
   "defaultVisibility": true,
   "subLayerIds": [
    4
   ],
   "minScale": 0,
   "maxScale": 0
  },
  {
   "id": 4,
   "name": "street_WGS84",
   "parentLayerId": 3,
   "defaultVisibility": true,
   "subLayerIds": null,
   "minScale": 0,
   "maxScale": 0
  }
 ],
 "tables": [],
 "spatialReference": {
  "wkid": 4326,
  "latestWkid": 4326
 },
 "singleFusedMapCache": true,
 "tileInfo": {
  "rows": 512,
  "cols": 512,
  "dpi": 120,
  "format": "PNG32",
  "compressionQuality": 0,
  "origin": {
   "x": 113.51,
   "y": 22.22
  },
  "spatialReference": {
   "wkid": 4326,
   "latestWkid": 4326
  },
  "lods": [
   {
    "level": 0,
    "resolution": 3.0457100874627585E-4,
    "scale": 160000
   },
   {
    "level": 1,
    "resolution": 2.6649963265299137E-4,
    "scale": 140000
   },
   {
    "level": 2,
    "resolution": 2.2842825655970689E-4,
    "scale": 120000
   },
   {
    "level": 3,
    "resolution": 1.903568804664224E-4,
    "scale": 100000
   },
   {
    "level": 4,
    "resolution": 1.5228550437313792E-4,
    "scale": 80000
   },
   {
    "level": 5,
    "resolution": 7.614275218656896E-5,
    "scale": 40000
   },
   {
    "level": 6,
    "resolution": 3.807137609328448E-5,
    "scale": 20000
   },
   {
    "level": 7,
    "resolution": 1.903568804664224E-5,
    "scale": 10000
   },
   {
    "level": 8,
    "resolution": 9.51784402332112E-6,
    "scale": 5000
   },
   {
    "level": 9,
    "resolution": 5.710706413992672E-6,
    "scale": 3000
   },
   {
    "level": 10,
    "resolution": 4.378208250727716E-6,
    "scale": 2300
   },
   {
    "level": 11,
    "resolution": 2.855353206996336E-6,
    "scale": 1500
   },
   {
    "level": 12,
    "resolution": 2.474639446063491E-6,
    "scale": 1300
   },
   {
    "level": 13,
    "resolution": 1.903568804664224E-6,
    "scale": 1000
   },
   {
    "level": 14,
    "resolution": 1.6180334839645903E-6,
    "scale": 850
   },
   {
    "level": 15,
    "resolution": 1.3324981632649567E-6,
    "scale": 700
   },
   {
    "level": 16,
    "resolution": 7.614275218656896E-7,
    "scale": 400
   }
  ]
 },
 "initialExtent": {
  "xmin": 113.44894507091665,
  "ymin": 22.119644050720424,
  "xmax": 113.6885322150835,
  "ymax": 22.222428209000043,
  "spatialReference": {
   "cs": "gcs",
   "wkid": 4326
  }
 },
 "fullExtent": {
  "xmin": 113.5039164860001,
  "ymin": 22.06434071600006,
  "xmax": 113.63356080000005,
  "ymax": 22.222428209000043,
  "spatialReference": {
   "cs": "gcs",
   "wkid": 4326
  }
 },
 "minScale": 160000,
 "maxScale": 400,
 "units": "esriDecimalDegrees",
 "supportedImageFormatTypes": "PNG32,PNG24,PNG,JPG,DIB,TIFF,EMF,PS,PDF,GIF,SVG,SVGZ,BMP",
 "documentInfo": {
  "Title": "",
  "Author": "",
  "Comments": "published by Johan @ 2021/11/29",
  "Subject": "Macau T WGS84 fake service",
  "Category": "",
  "AntialiasingMode": "None",
  "TextAntialiasingMode": "Force",
  "Keywords": "webmap,wgs84"
 },
 "capabilities": "Map,Query,Data",
 "supportedQueryFormats": "JSON, AMF, geoJSON",
 "exportTilesAllowed": false,
 "supportsDatumTransformation": true,
 "maxRecordCount": 1000,
 "maxImageHeight": 4096,
 "maxImageWidth": 4096,
 "supportedExtensions": ""
}
