{
 "currentVersion": 10.61,
 "serviceDescription": "Webmap BaseMap S published by Johan @ 2019.11.21",
 "mapName": "Layers",
 "description": "",
 "copyrightText": "",
 "supportsDynamicLayers": false,
 "layers": [
  {
   "id": 0,
   "name": "MapLayer",
   "parentLayerId": -1,
   "defaultVisibility": true,
   "subLayerIds": [
    1,
    3
   ],
   "minScale": 0,
   "maxScale": 0
  },
  {
   "id": 1,
   "name": "建物門牌",
   "parentLayerId": 0,
   "defaultVisibility": true,
   "subLayerIds": [
    2
   ],
   "minScale": 0,
   "maxScale": 0
  },
  {
   "id": 2,
   "name": "building",
   "parentLayerId": 1,
   "defaultVisibility": true,
   "subLayerIds": null,
   "minScale": 3000,
   "maxScale": 0
  },
  {
   "id": 3,
   "name": "道路網",
   "parentLayerId": 0,
   "defaultVisibility": true,
   "subLayerIds": [
    4
   ],
   "minScale": 0,
   "maxScale": 0
  },
  {
   "id": 4,
   "name": "Centerline",
   "parentLayerId": 3,
   "defaultVisibility": true,
   "subLayerIds": null,
   "minScale": 20000,
   "maxScale": 0
  }
 ],
 "tables": [],
 "spatialReference": {
  "wkt": "PROJCS[\"MacauProj\",GEOGCS[\"MacauGrid\",DATUM[\"D_International_1924\",SPHEROID[\"International_1924\",6378388.0,297.0]],PRIMEM[\"\",0.0],UNIT[\"Degree\",0.0174532925199433]],PROJECTION[\"Transverse_Mercator\"],PARAMETER[\"False_Easting\",20000.0],PARAMETER[\"False_Northing\",20000.0],PARAMETER[\"Central_Meridian\",113.5364694444],PARAMETER[\"Scale_Factor\",1.0],PARAMETER[\"Latitude_Of_Origin\",22.2123972222],UNIT[\"Meter\",1.0]]"
 },
 "singleFusedMapCache": true,
 "tileInfo": {
  "rows": 512,
  "cols": 512,
  "dpi": 120,
  "format": "PNG32",
  "compressionQuality": 0,
  "origin": {
   "x": 11680,
   "y": 25290
  },
  "spatialReference": {
   "wkt": "PROJCS[\"MacauProj\",GEOGCS[\"MacauGrid\",DATUM[\"D_International_1924\",SPHEROID[\"International_1924\",6378388.0,297.0]],PRIMEM[\"\",0.0],UNIT[\"Degree\",0.0174532925199433]],PROJECTION[\"Transverse_Mercator\"],PARAMETER[\"False_Easting\",20000.0],PARAMETER[\"False_Northing\",20000.0],PARAMETER[\"Central_Meridian\",113.5364694444],PARAMETER[\"Scale_Factor\",1.0],PARAMETER[\"Latitude_Of_Origin\",22.2123972222],UNIT[\"Meter\",1.0]]"
  },
  "lods": [
   {
    "level": 0,
    "resolution": 33.86673440013547,
    "scale": 160000
   },
   {
    "level": 1,
    "resolution": 29.633392600118537,
    "scale": 140000
   },
   {
    "level": 2,
    "resolution": 25.400050800101603,
    "scale": 120000
   },
   {
    "level": 3,
    "resolution": 21.16670900008467,
    "scale": 100000
   },
   {
    "level": 4,
    "resolution": 16.933367200067735,
    "scale": 80000
   },
   {
    "level": 5,
    "resolution": 8.466683600033868,
    "scale": 40000
   },
   {
    "level": 6,
    "resolution": 4.233341800016934,
    "scale": 20000
   },
   {
    "level": 7,
    "resolution": 2.116670900008467,
    "scale": 10000
   },
   {
    "level": 8,
    "resolution": 1.0583354500042335,
    "scale": 5000
   },
   {
    "level": 9,
    "resolution": 0.63500127000254,
    "scale": 3000
   },
   {
    "level": 10,
    "resolution": 0.4868343070019474,
    "scale": 2300
   },
   {
    "level": 11,
    "resolution": 0.31750063500127,
    "scale": 1500
   },
   {
    "level": 12,
    "resolution": 0.2751672170011007,
    "scale": 1300
   },
   {
    "level": 13,
    "resolution": 0.21166709000084669,
    "scale": 1000
   },
   {
    "level": 14,
    "resolution": 0.1799170265007197,
    "scale": 850
   },
   {
    "level": 15,
    "resolution": 0.14816696300059268,
    "scale": 700
   },
   {
    "level": 16,
    "resolution": 0.08466683600033868,
    "scale": 400
   }
  ]
 },
 "initialExtent": {
  "xmin": 2926.386015772441,
  "ymin": 4199.168232339616,
  "xmax": 42201.214565429545,
  "ymax": 22137.954109911378,
  "spatialReference": {
   "cs": "pcs",
   "wkt": "PROJCS[\"MacauProj\",GEOGCS[\"MacauGrid\",DATUM[\"D_International_1924\",SPHEROID[\"International_1924\",6378388.0,297.0]],PRIMEM[\"\",0.0],UNIT[\"Degree\",0.0174532925199433]],PROJECTION[\"Transverse_Mercator\"],PARAMETER[\"False_Easting\",20000.0],PARAMETER[\"False_Northing\",20000.0],PARAMETER[\"Central_Meridian\",113.5364694444],PARAMETER[\"Scale_Factor\",1.0],PARAMETER[\"Latitude_Of_Origin\",22.2123972222],UNIT[\"Meter\",1.0]]"
  }
 },
 "fullExtent": {
  "xmin": 9387.523938048,
  "ymin": 2360.310387957,
  "xmax": 35740.076643154,
  "ymax": 23976.811954294,
  "spatialReference": {
   "cs": "pcs",
   "wkt": "PROJCS[\"MacauProj\",GEOGCS[\"MacauGrid\",DATUM[\"D_International_1924\",SPHEROID[\"International_1924\",6378388.0,297.0]],PRIMEM[\"\",0.0],UNIT[\"Degree\",0.0174532925199433]],PROJECTION[\"Transverse_Mercator\"],PARAMETER[\"False_Easting\",20000.0],PARAMETER[\"False_Northing\",20000.0],PARAMETER[\"Central_Meridian\",113.5364694444],PARAMETER[\"Scale_Factor\",1.0],PARAMETER[\"Latitude_Of_Origin\",22.2123972222],UNIT[\"Meter\",1.0]]"
  }
 },
 "minScale": 160000,
 "maxScale": 400,
 "units": "esriMeters",
 "supportedImageFormatTypes": "PNG32,PNG24,PNG,JPG,DIB,TIFF,EMF,PS,PDF,GIF,SVG,SVGZ,BMP",
 "documentInfo": {
  "Title": "",
  "Author": "",
  "Comments": "Cadastre BaseMap T published by Johan @ 2019.11.21",
  "Subject": "Cadastre BaseMap",
  "Category": "",
  "AntialiasingMode": "None",
  "TextAntialiasingMode": "Force",
  "Keywords": "webmap,basemap"
 },
 "capabilities": "Data,Map,Query",
 "supportedQueryFormats": "JSON, AMF, geoJSON",
 "exportTilesAllowed": false,
 "datumTransformations": [
  {
   "geoTransforms": [
    {
     "wkid": 108001,
     "latestWkid": 1241,
     "transformForward": true,
     "name": "NAD_1927_To_NAD_1983_NADCON"
    }
   ]
  },
  {
   "geoTransforms": [
    {
     "wkid": 108001,
     "latestWkid": 1241,
     "transformForward": false,
     "name": "NAD_1927_To_NAD_1983_NADCON"
    }
   ]
  }
 ],
 "supportsDatumTransformation": true,
 "maxRecordCount": 1000,
 "maxImageHeight": 4096,
 "maxImageWidth": 4096,
 "supportedExtensions": ""
}
