{
 "currentVersion": 10.61,
 "serviceDescription": "StormSurge Orange published by Johan @ 2019.12.04",
 "mapName": "Layers",
 "description": "",
 "copyrightText": "",
 "supportsDynamicLayers": true,
 "layers": [
  {
   "id": 0,
   "name": "Zone",
   "parentLayerId": -1,
   "defaultVisibility": true,
   "subLayerIds": null,
   "minScale": 40000,
   "maxScale": 850
  }
 ],
 "tables": [],
 "spatialReference": {
  "wkt": "PROJCS[\"MacauProj\",GEOGCS[\"MacauGrid\",DATUM[\"D_International_1924\",SPHEROID[\"International_1924\",6378388.0,297.0]],PRIMEM[\"\",0.0],UNIT[\"Degree\",0.0174532925199433]],PROJECTION[\"Transverse_Mercator\"],PARAMETER[\"False_Easting\",20000.0],PARAMETER[\"False_Northing\",20000.0],PARAMETER[\"Central_Meridian\",113.5364694444],PARAMETER[\"Scale_Factor\",1.0],PARAMETER[\"Latitude_Of_Origin\",22.2123972222],UNIT[\"Meter\",1.0]]"
 },
 "singleFusedMapCache": true,
 "tileInfo": {
  "rows": 512,
  "cols": 512,
  "dpi": 120,
  "format": "PNG32",
  "compressionQuality": 0,
  "origin": {
   "x": 11680,
   "y": 25290
  },
  "spatialReference": {
   "wkt": "PROJCS[\"MacauProj\",GEOGCS[\"MacauGrid\",DATUM[\"D_International_1924\",SPHEROID[\"International_1924\",6378388.0,297.0]],PRIMEM[\"\",0.0],UNIT[\"Degree\",0.0174532925199433]],PROJECTION[\"Transverse_Mercator\"],PARAMETER[\"False_Easting\",20000.0],PARAMETER[\"False_Northing\",20000.0],PARAMETER[\"Central_Meridian\",113.5364694444],PARAMETER[\"Scale_Factor\",1.0],PARAMETER[\"Latitude_Of_Origin\",22.2123972222],UNIT[\"Meter\",1.0]]"
  },
  "lods": [
   {
    "level": 0,
    "resolution": 8.466683600033868,
    "scale": 40000
   },
   {
    "level": 1,
    "resolution": 4.233341800016934,
    "scale": 20000
   },
   {
    "level": 2,
    "resolution": 2.116670900008467,
    "scale": 10000
   },
   {
    "level": 3,
    "resolution": 1.0583354500042335,
    "scale": 5000
   },
   {
    "level": 4,
    "resolution": 0.63500127000254,
    "scale": 3000
   },
   {
    "level": 5,
    "resolution": 0.4868343070019474,
    "scale": 2300
   },
   {
    "level": 6,
    "resolution": 0.31750063500127,
    "scale": 1500
   },
   {
    "level": 7,
    "resolution": 0.2751672170011007,
    "scale": 1300
   },
   {
    "level": 8,
    "resolution": 0.21166709000084669,
    "scale": 1000
   },
   {
    "level": 9,
    "resolution": 0.1799170265007197,
    "scale": 850
   }
  ]
 },
 "initialExtent": {
  "xmin": 14896.58000071959,
  "ymin": 15157.56061625187,
  "xmax": 27988.189517271956,
  "ymax": 21137.15590877579,
  "spatialReference": {
   "cs": "pcs",
   "wkt": "PROJCS[\"MacauProj\",GEOGCS[\"MacauGrid\",DATUM[\"D_International_1924\",SPHEROID[\"International_1924\",6378388.0,297.0]],PRIMEM[\"\",0.0],UNIT[\"Degree\",0.0174532925199433]],PROJECTION[\"Transverse_Mercator\"],PARAMETER[\"False_Easting\",20000.0],PARAMETER[\"False_Northing\",20000.0],PARAMETER[\"Central_Meridian\",113.5364694444],PARAMETER[\"Scale_Factor\",1.0],PARAMETER[\"Latitude_Of_Origin\",22.2123972222],UNIT[\"Meter\",1.0]]"
  }
 },
 "fullExtent": {
  "xmin": 18895.161100000143,
  "ymin": 8768.673000000417,
  "xmax": 26063.9458999997,
  "ymax": 20646.863099999726,
  "spatialReference": {
   "cs": "pcs",
   "wkt": "PROJCS[\"MacauProj\",GEOGCS[\"MacauGrid\",DATUM[\"D_International_1924\",SPHEROID[\"International_1924\",6378388.0,297.0]],PRIMEM[\"\",0.0],UNIT[\"Degree\",0.0174532925199433]],PROJECTION[\"Transverse_Mercator\"],PARAMETER[\"False_Easting\",20000.0],PARAMETER[\"False_Northing\",20000.0],PARAMETER[\"Central_Meridian\",113.5364694444],PARAMETER[\"Scale_Factor\",1.0],PARAMETER[\"Latitude_Of_Origin\",22.2123972222],UNIT[\"Meter\",1.0]]"
  }
 },
 "minScale": 40000,
 "maxScale": 850,
 "units": "esriMeters",
 "supportedImageFormatTypes": "PNG32,PNG24,PNG,JPG,DIB,TIFF,EMF,PS,PDF,GIF,SVG,SVGZ,BMP",
 "documentInfo": {
  "Title": "",
  "Author": "",
  "Comments": "StormSurge Black published by Johan @ 2019.12.04",
  "Subject": "StormSurge Black",
  "Category": "",
  "AntialiasingMode": "None",
  "TextAntialiasingMode": "Force",
  "Keywords": "webmap,StormSurge"
 },
 "capabilities": "Map,Query,Data",
 "supportedQueryFormats": "JSON, AMF, geoJSON",
 "exportTilesAllowed": false,
 "supportsDatumTransformation": true,
 "maxRecordCount": 1000,
 "maxImageHeight": 4096,
 "maxImageWidth": 4096,
 "supportedExtensions": ""
}
