{
 "currentVersion": 10.61,
 "serviceDescription": "published by Johan @ 2022.08.26",
 "mapName": "Layers",
 "description": "",
 "copyrightText": "",
 "supportsDynamicLayers": false,
 "layers": [
  {
   "id": 0,
   "name": "Zone",
   "parentLayerId": -1,
   "defaultVisibility": true,
   "subLayerIds": null,
   "minScale": 40000,
   "maxScale": 850
  }
 ],
 "tables": [],
 "spatialReference": {
  "wkt": "PROJCS[\"MacauProj\",GEOGCS[\"MacauGrid\",DATUM[\"D_International_1924\",SPHEROID[\"International_1924\",6378388.0,297.0]],PRIMEM[\"\",0.0],UNIT[\"Degree\",0.0174532925199433]],PROJECTION[\"Transverse_Mercator\"],PARAMETER[\"False_Easting\",20000.0],PARAMETER[\"False_Northing\",20000.0],PARAMETER[\"Central_Meridian\",113.5364694444],PARAMETER[\"Scale_Factor\",1.0],PARAMETER[\"Latitude_Of_Origin\",22.2123972222],UNIT[\"Meter\",1.0]]"
 },
 "singleFusedMapCache": true,
 "tileInfo": {
  "rows": 128,
  "cols": 128,
  "dpi": 120,
  "format": "PNG24",
  "compressionQuality": 0,
  "origin": {
   "x": 15880,
   "y": 21730
  },
  "spatialReference": {
   "wkt": "PROJCS[\"MacauProj\",GEOGCS[\"MacauGrid\",DATUM[\"D_International_1924\",SPHEROID[\"International_1924\",6378388.0,297.0]],PRIMEM[\"\",0.0],UNIT[\"Degree\",0.0174532925199433]],PROJECTION[\"Transverse_Mercator\"],PARAMETER[\"False_Easting\",20000.0],PARAMETER[\"False_Northing\",20000.0],PARAMETER[\"Central_Meridian\",113.5364694444],PARAMETER[\"Scale_Factor\",1.0],PARAMETER[\"Latitude_Of_Origin\",22.2123972222],UNIT[\"Meter\",1.0]]"
  },
  "lods": [
   {
    "level": 0,
    "resolution": 33.86673440013547,
    "scale": 160000
   },
   {
    "level": 1,
    "resolution": 29.633392600118537,
    "scale": 140000
   },
   {
    "level": 2,
    "resolution": 25.400050800101603,
    "scale": 120000
   },
   {
    "level": 3,
    "resolution": 21.16670900008467,
    "scale": 100000
   },
   {
    "level": 4,
    "resolution": 16.933367200067735,
    "scale": 80000
   },
   {
    "level": 5,
    "resolution": 8.466683600033868,
    "scale": 40000
   },
   {
    "level": 6,
    "resolution": 4.233341800016934,
    "scale": 20000
   },
   {
    "level": 7,
    "resolution": 2.116670900008467,
    "scale": 10000
   },
   {
    "level": 8,
    "resolution": 1.0583354500042335,
    "scale": 5000
   },
   {
    "level": 9,
    "resolution": 0.63500127000254,
    "scale": 3000
   },
   {
    "level": 10,
    "resolution": 0.4868343070019474,
    "scale": 2300
   },
   {
    "level": 11,
    "resolution": 0.31750063500127,
    "scale": 1500
   }
  ]
 },
 "initialExtent": {
  "xmin": 14473.245820717817,
  "ymin": 15157.560616251485,
  "xmax": 28411.52369727357,
  "ymax": 21137.155908775403,
  "spatialReference": {
   "cs": "pcs",
   "wkt": "PROJCS[\"MacauProj\",GEOGCS[\"MacauGrid\",DATUM[\"D_International_1924\",SPHEROID[\"International_1924\",6378388.0,297.0]],PRIMEM[\"\",0.0],UNIT[\"Degree\",0.0174532925199433]],PROJECTION[\"Transverse_Mercator\"],PARAMETER[\"False_Easting\",20000.0],PARAMETER[\"False_Northing\",20000.0],PARAMETER[\"Central_Meridian\",113.5364694444],PARAMETER[\"Scale_Factor\",1.0],PARAMETER[\"Latitude_Of_Origin\",22.2123972222],UNIT[\"Meter\",1.0]]"
  }
 },
 "fullExtent": {
  "xmin": 18895.161100000143,
  "ymin": 8768.673000000417,
  "xmax": 26063.9458999997,
  "ymax": 20646.863099999726,
  "spatialReference": {
   "cs": "pcs",
   "wkt": "PROJCS[\"MacauProj\",GEOGCS[\"MacauGrid\",DATUM[\"D_International_1924\",SPHEROID[\"International_1924\",6378388.0,297.0]],PRIMEM[\"\",0.0],UNIT[\"Degree\",0.0174532925199433]],PROJECTION[\"Transverse_Mercator\"],PARAMETER[\"False_Easting\",20000.0],PARAMETER[\"False_Northing\",20000.0],PARAMETER[\"Central_Meridian\",113.5364694444],PARAMETER[\"Scale_Factor\",1.0],PARAMETER[\"Latitude_Of_Origin\",22.2123972222],UNIT[\"Meter\",1.0]]"
  }
 },
 "minScale": 160000,
 "maxScale": 1500,
 "units": "esriMeters",
 "supportedImageFormatTypes": "PNG32,PNG24,PNG,JPG,DIB,TIFF,EMF,PS,PDF,GIF,SVG,SVGZ,BMP",
 "documentInfo": {
  "Title": "",
  "Author": "",
  "Comments": "StormSurge Black published by Johan @ 2019.12.04",
  "Subject": "StormSurge Black",
  "Category": "",
  "AntialiasingMode": "None",
  "TextAntialiasingMode": "Force",
  "Keywords": "webmap, StormSurge"
 },
 "capabilities": "Data,Map,Query",
 "supportedQueryFormats": "JSON, AMF, geoJSON",
 "exportTilesAllowed": false,
 "supportsDatumTransformation": true,
 "maxRecordCount": 1000,
 "maxImageHeight": 4096,
 "maxImageWidth": 4096,
 "supportedExtensions": ""
}
