{
 "currentVersion": 10.61,
 "serviceDescription": "PCU published by Johan @ 2019.11.22",
 "mapName": "Layers",
 "description": "",
 "copyrightText": "",
 "supportsDynamicLayers": true,
 "layers": [
  {
   "id": 0,
   "name": "PCU-G",
   "parentLayerId": -1,
   "defaultVisibility": true,
   "subLayerIds": [
    1,
    2,
    3,
    4,
    5,
    6
   ],
   "minScale": 0,
   "maxScale": 0
  },
  {
   "id": 1,
   "name": "PCU",
   "parentLayerId": 0,
   "defaultVisibility": false,
   "subLayerIds": null,
   "minScale": 0,
   "maxScale": 0
  },
  {
   "id": 2,
   "name": "PCU_nonintersect-2.5k~",
   "parentLayerId": 0,
   "defaultVisibility": true,
   "subLayerIds": null,
   "minScale": 2500,
   "maxScale": 0
  },
  {
   "id": 3,
   "name": "PCU_nonintersect-10k~2.5k",
   "parentLayerId": 0,
   "defaultVisibility": true,
   "subLayerIds": null,
   "minScale": 0,
   "maxScale": 2501
  },
  {
   "id": 4,
   "name": "PCU_intersect-10K~5k",
   "parentLayerId": 0,
   "defaultVisibility": true,
   "subLayerIds": null,
   "minScale": 0,
   "maxScale": 5001
  },
  {
   "id": 5,
   "name": "PCU_intersect-5K~2.5K",
   "parentLayerId": 0,
   "defaultVisibility": true,
   "subLayerIds": null,
   "minScale": 5000,
   "maxScale": 2501
  },
  {
   "id": 6,
   "name": "PCU_intersect-2.5K~",
   "parentLayerId": 0,
   "defaultVisibility": true,
   "subLayerIds": null,
   "minScale": 2500,
   "maxScale": 0
  }
 ],
 "tables": [],
 "spatialReference": {
  "wkt": "PROJCS[\"MacauProj\",GEOGCS[\"MacauGrid\",DATUM[\"D_International_1924\",SPHEROID[\"International_1924\",6378388.0,297.0]],PRIMEM[\"\",0.0],UNIT[\"Degree\",0.0174532925199433]],PROJECTION[\"Transverse_Mercator\"],PARAMETER[\"False_Easting\",20000.0],PARAMETER[\"False_Northing\",20000.0],PARAMETER[\"Central_Meridian\",113.5364694444],PARAMETER[\"Scale_Factor\",1.0],PARAMETER[\"Latitude_Of_Origin\",22.2123972222],UNIT[\"Meter\",1.0]]"
 },
 "singleFusedMapCache": true,
 "tileInfo": {
  "rows": 512,
  "cols": 512,
  "dpi": 120,
  "format": "PNG32",
  "compressionQuality": 0,
  "origin": {
   "x": 11680,
   "y": 25290
  },
  "spatialReference": {
   "wkt": "PROJCS[\"MacauProj\",GEOGCS[\"MacauGrid\",DATUM[\"D_International_1924\",SPHEROID[\"International_1924\",6378388.0,297.0]],PRIMEM[\"\",0.0],UNIT[\"Degree\",0.0174532925199433]],PROJECTION[\"Transverse_Mercator\"],PARAMETER[\"False_Easting\",20000.0],PARAMETER[\"False_Northing\",20000.0],PARAMETER[\"Central_Meridian\",113.5364694444],PARAMETER[\"Scale_Factor\",1.0],PARAMETER[\"Latitude_Of_Origin\",22.2123972222],UNIT[\"Meter\",1.0]]"
  },
  "lods": [
   {
    "level": 0,
    "resolution": 2.116670900008467,
    "scale": 10000
   },
   {
    "level": 1,
    "resolution": 1.0583354500042335,
    "scale": 5000
   },
   {
    "level": 2,
    "resolution": 0.63500127000254,
    "scale": 3000
   },
   {
    "level": 3,
    "resolution": 0.4868343070019474,
    "scale": 2300
   },
   {
    "level": 4,
    "resolution": 0.31750063500127,
    "scale": 1500
   },
   {
    "level": 5,
    "resolution": 0.2751672170011007,
    "scale": 1300
   },
   {
    "level": 6,
    "resolution": 0.21166709000084669,
    "scale": 1000
   },
   {
    "level": 7,
    "resolution": 0.1799170265007197,
    "scale": 850
   },
   {
    "level": 8,
    "resolution": 0.14816696300059268,
    "scale": 700
   },
   {
    "level": 9,
    "resolution": 0.08466683600033868,
    "scale": 400
   }
  ]
 },
 "initialExtent": {
  "xmin": 17457.981541193883,
  "ymin": 16602.61699385422,
  "xmax": 25941.598508427815,
  "ymax": 20190.37416936857,
  "spatialReference": {
   "cs": "pcs",
   "wkt": "PROJCS[\"MacauProj\",GEOGCS[\"MacauGrid\",DATUM[\"D_International_1924\",SPHEROID[\"International_1924\",6378388.0,297.0]],PRIMEM[\"\",0.0],UNIT[\"Degree\",0.0174532925199433]],PROJECTION[\"Transverse_Mercator\"],PARAMETER[\"False_Easting\",20000.0],PARAMETER[\"False_Northing\",20000.0],PARAMETER[\"Central_Meridian\",113.5364694444],PARAMETER[\"Scale_Factor\",1.0],PARAMETER[\"Latitude_Of_Origin\",22.2123972222],UNIT[\"Meter\",1.0]]"
  }
 },
 "fullExtent": {
  "xmin": 18972.677999999833,
  "ymin": 8865.4999999999,
  "xmax": 26182.0421000002,
  "ymax": 20596.857000001022,
  "spatialReference": {
   "cs": "pcs",
   "wkt": "PROJCS[\"MacauProj\",GEOGCS[\"MacauGrid\",DATUM[\"D_International_1924\",SPHEROID[\"International_1924\",6378388.0,297.0]],PRIMEM[\"\",0.0],UNIT[\"Degree\",0.0174532925199433]],PROJECTION[\"Transverse_Mercator\"],PARAMETER[\"False_Easting\",20000.0],PARAMETER[\"False_Northing\",20000.0],PARAMETER[\"Central_Meridian\",113.5364694444],PARAMETER[\"Scale_Factor\",1.0],PARAMETER[\"Latitude_Of_Origin\",22.2123972222],UNIT[\"Meter\",1.0]]"
  }
 },
 "minScale": 10000,
 "maxScale": 400,
 "units": "esriMeters",
 "supportedImageFormatTypes": "PNG32,PNG24,PNG,JPG,DIB,TIFF,EMF,PS,PDF,GIF,SVG,SVGZ,BMP",
 "documentInfo": {
  "Title": "MacauMap_PAO_v1",
  "Author": "cyrillo",
  "Comments": "PCU published by Johan @ 2019.11.21",
  "Subject": "PCU",
  "Category": "",
  "AntialiasingMode": "Normal",
  "TextAntialiasingMode": "Force",
  "Keywords": "cadastre,PCU"
 },
 "capabilities": "Map,Query,Data",
 "supportedQueryFormats": "JSON, AMF, geoJSON",
 "exportTilesAllowed": false,
 "datumTransformations": [
  {
   "geoTransforms": [
    {
     "wkid": 108001,
     "latestWkid": 1241,
     "transformForward": true,
     "name": "NAD_1927_To_NAD_1983_NADCON"
    }
   ]
  },
  {
   "geoTransforms": [
    {
     "wkid": 108001,
     "latestWkid": 1241,
     "transformForward": false,
     "name": "NAD_1927_To_NAD_1983_NADCON"
    }
   ]
  }
 ],
 "supportsDatumTransformation": true,
 "maxRecordCount": 1000,
 "maxImageHeight": 4096,
 "maxImageWidth": 4096,
 "supportedExtensions": ""
}
